BEGIN:VCALENDAR
VERSION:2.0
PRODID:-//wp-events-plugin.com//7.2.3.1//EN
TZID:America/Vancouver
X-WR-TIMEZONE:America/Vancouver
BEGIN:VEVENT
UID:87@vffn.ca
DTSTART;TZID=America/Vancouver:20220605T100000
DTEND;TZID=America/Vancouver:20220605T130000
DTSTAMP:20220531T174926Z
URL:https://vffn.ca/events/hike-a-blooming-nice-trail/
SUMMARY:Hike: A Blooming Nice Trail
DESCRIPTION:Sunday\, June 5\, 2022\n\n2 1/2 to 3 hour moderate hike. Wear s
 turdy shoes\, appropriate clothing\, bring a lunch and water.\n\nMeet at t
 he first cattle guard at the bottom of West China Creek Road. The hike sta
 rts there.\n\nThe hike begins at 10:00 am.\n\nFor more info email mhmasiel
 @gmail.com or phone 295-7154\n\nSorry no dogs.
CATEGORIES:Hike
END:VEVENT
BEGIN:VTIMEZONE
TZID:America/Vancouver
X-LIC-LOCATION:America/Vancouver
BEGIN:DAYLIGHT
DTSTART:20220313T030000
TZOFFSETFROM:-0800
TZOFFSETTO:-0700
TZNAME:PDT
END:DAYLIGHT
END:VTIMEZONE
END:VCALENDAR