BEGIN:VCALENDAR
VERSION:2.0
PRODID:-//wp-events-plugin.com//7.2.3.1//EN
TZID:America/Vancouver
X-WR-TIMEZONE:America/Vancouver
BEGIN:VEVENT
UID:18@vffn.ca
DTSTART;TZID=America/Vancouver:20180911T190000
DTEND;TZID=America/Vancouver:20180911T203000
DTSTAMP:20171116T005645Z
URL:https://vffn.ca/events/meeting-guyana-dr-merle-kindred/
SUMMARY:Meeting - Guyana - Dr. Merle Kindred
DESCRIPTION:September 11th\, 2018\nat the Riverside Centre.\n\nDr. Kindred 
 has a presentation on Guyana to share with us.
CATEGORIES:Meeting
LOCATION:Riverside Centre\, 118 Old Hedley Road\, Princeton\, British Colum
 bia\, V0X 1W0\, Canada
GEO:49.464243;-120.507305
X-APPLE-STRUCTURED-LOCATION;VALUE=URI;X-ADDRESS=118 Old Hedley Road\, Princ
 eton\, British Columbia\, V0X 1W0\, Canada;X-APPLE-RADIUS=100;X-TITLE=Rive
 rside Centre:geo:49.464243,-120.507305
END:VEVENT
BEGIN:VTIMEZONE
TZID:America/Vancouver
X-LIC-LOCATION:America/Vancouver
BEGIN:DAYLIGHT
DTSTART:20180311T030000
TZOFFSETFROM:-0800
TZOFFSETTO:-0700
TZNAME:PDT
END:DAYLIGHT
END:VTIMEZONE
END:VCALENDAR