BEGIN:VCALENDAR
VERSION:2.0
PRODID:-//wp-events-plugin.com//7.2.3.1//EN
TZID:America/Vancouver
X-WR-TIMEZONE:America/Vancouver
BEGIN:VEVENT
UID:149@vffn.ca
DTSTART;TZID=America/Vancouver:20240526T100000
DTEND;TZID=America/Vancouver:20240526T130000
DTSTAMP:20240523T221550Z
URL:https://vffn.ca/events/outing-allenbydown-to-the-river-and-back/
SUMMARY:Outing: Allenby…down to the River and Back
DESCRIPTION:This field trip may not sound too exciting\, but it is. John kn
 ows a different way of going down to the Similkameen River and coming back
  a different way. Even I am baffled.\nAnyway\, the wildflowers and even so
 me birds are staying away because of the chilly temps but I think that the
  weekend will be different. Anyway here are the particulars.\nDESTINATION:
  From Allenby down to the Similkameen River & Back\nMEETING PLACE & TIME: 
 Riverside Parking Lot @ 10:00 am\nDATE: Sunday\, May 26\, 2024\nLEVEL OF D
 IFFICULTY: Moderate\nDURATION: 3 hours\nOTHER: The usual\, appropriate clo
 thing\, bring a lunch\, water\, if sunny\, sunscreen and sun hat. Closer t
 o the weekend it will be able to see what the weather will be.\nMore info.
  295 7154 or email mhmasiel@gmail.com.
CATEGORIES:Hike
END:VEVENT
BEGIN:VTIMEZONE
TZID:America/Vancouver
X-LIC-LOCATION:America/Vancouver
BEGIN:DAYLIGHT
DTSTART:20240310T030000
TZOFFSETFROM:-0800
TZOFFSETTO:-0700
TZNAME:PDT
END:DAYLIGHT
END:VTIMEZONE
END:VCALENDAR