BEGIN:VCALENDAR
VERSION:2.0
PRODID:-//wp-events-plugin.com//7.2.3.1//EN
TZID:America/Vancouver
X-WR-TIMEZONE:America/Vancouver
BEGIN:VEVENT
UID:118@vffn.ca
DTSTART;TZID=America/Vancouver:20230528T100000
DTEND;TZID=America/Vancouver:20230528T120000
DTSTAMP:20230521T013351Z
URL:https://vffn.ca/events/outing-disc-golf/
SUMMARY:Outing: Disc Golf
DESCRIPTION:An outing with a difference...for all of you that showed an int
 erest in disc golfing now is the opportunity to give it a go. So mark the 
 date (Sunday\, May 28\, 2023) on your calendar\nParticulars:\nMeeting Plac
 e: At the site of the course. Go up Hwy 5A\, go past the turn off to the A
 irport and take the road immediately to the right (Laurie Currie Way). You
 r destination is immediately to your left. \n\nDate: Sunday\, May 28\, 202
 3\nTime: 10 am sharp\nOther Info. Wear sensible shoes...there may be some 
 cactus. This is a short outing so bringing a lunch is not necessary\, but 
 bring a snack if you wish. Also bring plenty of water.\nKevin who runs the
  disc golf club will provide the discs and give some training/\ninstructio
 n. We are also asking that every person bring $5.00 to pay for use of equi
 pment and to make donation to the Disc Golf Club. I will collect the money
 \; give me your money before the fun begins!\n\nContact us for any more in
 fo. etc. mhmasiel@gmail.com\nJohn &amp\; Mary
CATEGORIES:Meeting
END:VEVENT
BEGIN:VTIMEZONE
TZID:America/Vancouver
X-LIC-LOCATION:America/Vancouver
BEGIN:DAYLIGHT
DTSTART:20230312T030000
TZOFFSETFROM:-0800
TZOFFSETTO:-0700
TZNAME:PDT
END:DAYLIGHT
END:VTIMEZONE
END:VCALENDAR