BEGIN:VCALENDAR
VERSION:2.0
PRODID:-//wp-events-plugin.com//7.2.3.1//EN
TZID:America/Vancouver
X-WR-TIMEZONE:America/Vancouver
BEGIN:VEVENT
UID:169@vffn.ca
DTSTART;TZID=America/Vancouver:20260113T190000
DTEND;TZID=America/Vancouver:20260113T203000
DTSTAMP:20251213T223713Z
URL:https://vffn.ca/events/presentation-a-new-dragonfly-sub-order-with-bru
 ce-archibald/
SUMMARY:Presentation: A New Dragonfly Sub Order with Bruce Archibald
DESCRIPTION:January 13\, 2026\n\nA New Dragonfly Sub Order with Bruce Archi
 bald\nA new dragonfly suborder\, named Cephalozygoptera\, was discovered i
 n 2021 and consists of extinct fossil species from the Cretaceous and Ceno
 zoic eras. This suborder was established by scientists after reviewing fos
 sil records and discovering\ndistinct head shapes in these ancient insects
 \, differentiating them from other groups within the order Odonata. The na
 me "Cephalozygoptera" means "head damselfly" and highlights their unusual 
 round heads and eyes compared to other damselflies.
CATEGORIES:Meeting
LOCATION:Princeton Museum\, 167 Vermilion Ave\, Princeton\, British Columbi
 a\, v0x1w0\, Canada
GEO:49.458423;-120.509086
X-APPLE-STRUCTURED-LOCATION;VALUE=URI;X-ADDRESS=167 Vermilion Ave\, Princet
 on\, British Columbia\, v0x1w0\, Canada;X-APPLE-RADIUS=100;X-TITLE=Princet
 on Museum:geo:49.458423,-120.509086
END:VEVENT
BEGIN:VTIMEZONE
TZID:America/Vancouver
X-LIC-LOCATION:America/Vancouver
BEGIN:STANDARD
DTSTART:20251102T010000
TZOFFSETFROM:-0700
TZOFFSETTO:-0800
TZNAME:PST
END:STANDARD
END:VTIMEZONE
END:VCALENDAR