BEGIN:VCALENDAR
VERSION:2.0
PRODID:-//wp-events-plugin.com//7.2.3.1//EN
TZID:America/Vancouver
X-WR-TIMEZONE:America/Vancouver
BEGIN:VEVENT
UID:170@vffn.ca
DTSTART;TZID=America/Vancouver:20260210T190000
DTEND;TZID=America/Vancouver:20260210T203000
DTSTAMP:20251213T223722Z
URL:https://vffn.ca/events/presentation-backyard-dinosaur-watching-with-ho
 ward-richardson/
SUMMARY:Presentation: Backyard Dinosaur Watching with Howard Richardson
DESCRIPTION:February 10\, 2026\n\nBackyard Dinosaur Watching with Howard Ri
 chardson\nThis is in recognition of the fact that the birds we watch today
  are direct descendants of dinosaurs. It is an examination of the key foss
 ils that link dinosaurs to birds\, the people that made vital advances in 
 our understanding and the modern techniques that have led us to this knowl
 edge. The presentation will be illustrated with lots of good photos. Howar
 d has retired from teaching at Okanagan College and Okanagan University Co
 llege in order to pursue some serious birding and mountain biking.
CATEGORIES:Meeting
LOCATION:Princeton Museum\, 167 Vermilion Ave\, Princeton\, British Columbi
 a\, v0x1w0\, Canada
GEO:49.458423;-120.509086
X-APPLE-STRUCTURED-LOCATION;VALUE=URI;X-ADDRESS=167 Vermilion Ave\, Princet
 on\, British Columbia\, v0x1w0\, Canada;X-APPLE-RADIUS=100;X-TITLE=Princet
 on Museum:geo:49.458423,-120.509086
END:VEVENT
BEGIN:VTIMEZONE
TZID:America/Vancouver
X-LIC-LOCATION:America/Vancouver
BEGIN:STANDARD
DTSTART:20251102T010000
TZOFFSETFROM:-0700
TZOFFSETTO:-0800
TZNAME:PST
END:STANDARD
END:VTIMEZONE
END:VCALENDAR