BEGIN:VCALENDAR
VERSION:2.0
PRODID:-//wp-events-plugin.com//7.2.3.1//EN
TZID:America/Vancouver
X-WR-TIMEZONE:America/Vancouver
BEGIN:VEVENT
UID:93@vffn.ca
DTSTART;TZID=America/Vancouver:20220913T190000
DTEND;TZID=America/Vancouver:20220913T203000
DTSTAMP:20220728T203050Z
URL:https://vffn.ca/events/presentation-mushrooms-with-gary-hunt/
SUMMARY:Presentation: Mushrooms with Gary Hunt
DESCRIPTION:September 13\, 2022\nFantastic Fungi: Wild Mushrooms in the BC 
 Interior\nGary Hunt from the Kamloops Naturalist Club will present an info
 rmation-rich session about our\nlocal mushrooms. It will include questions
  such as:\n- How do mushrooms benefit natural ecosystems?\n- What are the 
 most common mushrooms in our yards\, gardens and forests?\n- How can you t
 ell a poisonous mushroom from an edible one?\n- Where can we find edible m
 ushrooms?\n- What are BC’s deadliest mushrooms?\nBring your knowledge\, 
 curiosity and questions and you will leave with a renewed interest in expl
 oring these fascinating organisms.\nGary Hunt is a mycologist and Professo
 r Emeritus at Thompson River University where he taught in the Department 
 of Natural Resources.
CATEGORIES:Meeting
LOCATION:Riverside Centre\, 118 Old Hedley Road\, Princeton\, British Colum
 bia\, V0X 1W0\, Canada
GEO:49.464243;-120.507305
X-APPLE-STRUCTURED-LOCATION;VALUE=URI;X-ADDRESS=118 Old Hedley Road\, Princ
 eton\, British Columbia\, V0X 1W0\, Canada;X-APPLE-RADIUS=100;X-TITLE=Rive
 rside Centre:geo:49.464243,-120.507305
END:VEVENT
BEGIN:VTIMEZONE
TZID:America/Vancouver
X-LIC-LOCATION:America/Vancouver
BEGIN:DAYLIGHT
DTSTART:20220313T030000
TZOFFSETFROM:-0800
TZOFFSETTO:-0700
TZNAME:PDT
END:DAYLIGHT
END:VTIMEZONE
END:VCALENDAR