BEGIN:VCALENDAR
VERSION:2.0
PRODID:-//wp-events-plugin.com//7.2.3.1//EN
TZID:America/Vancouver
X-WR-TIMEZONE:America/Vancouver
BEGIN:VEVENT
UID:165@vffn.ca
DTSTART;TZID=America/Vancouver:20250114T070000
DTEND;TZID=America/Vancouver:20250114T083000
DTSTAMP:20241111T204926Z
URL:https://vffn.ca/events/presentation-recreation-sites-and-trails-with-t
 im-bennett/
SUMMARY:Presentation: Recreation Sites and Trails with Tim Bennett
DESCRIPTION:January 14 - Recreation Sites and Trails with Tim Bennett\n\nBC
  is dotted with recreation sites both nearby and remote which allow nature
  lovers to camp away from the Provincial and commercial campsite crowds. T
 im Bennett is the District Recreation Officer for the Cascades Recreation 
 District who oversees this wonderful resource. He has also been an invalua
 ble help in our work with Cormack Marsh and Martins Lake. During this pres
 entation Tim will talk about his work on recreation sites and trails as we
 ll as being available for questions VFFN members have about the work we do
  in our valley.
CATEGORIES:Meeting
LOCATION:Princeton Museum\, 167 Vermilion Ave\, Princeton\, British Columbi
 a\, v0x1w0\, Canada
GEO:49.458423;-120.509086
X-APPLE-STRUCTURED-LOCATION;VALUE=URI;X-ADDRESS=167 Vermilion Ave\, Princet
 on\, British Columbia\, v0x1w0\, Canada;X-APPLE-RADIUS=100;X-TITLE=Princet
 on Museum:geo:49.458423,-120.509086
END:VEVENT
BEGIN:VTIMEZONE
TZID:America/Vancouver
X-LIC-LOCATION:America/Vancouver
BEGIN:STANDARD
DTSTART:20241103T010000
TZOFFSETFROM:-0700
TZOFFSETTO:-0800
TZNAME:PST
END:STANDARD
END:VTIMEZONE
END:VCALENDAR